BEGIN:VCALENDAR
VERSION:2.0
PRODID:-//WeLearn - ECPv6.10.3//NONSGML v1.0//EN
CALSCALE:GREGORIAN
METHOD:PUBLISH
X-ORIGINAL-URL:https://welearnnkc.com
X-WR-CALDESC:Évènements pour WeLearn
REFRESH-INTERVAL;VALUE=DURATION:PT1H
X-Robots-Tag:noindex
X-PUBLISHED-TTL:PT1H
BEGIN:VTIMEZONE
TZID:UTC
BEGIN:STANDARD
TZOFFSETFROM:+0000
TZOFFSETTO:+0000
TZNAME:UTC
DTSTART:20240101T000000
END:STANDARD
END:VTIMEZONE
BEGIN:VEVENT
DTSTART;VALUE=DATE:20250616
DTEND;VALUE=DATE:20250620
DTSTAMP:20260421T100733
CREATED:20250329T142644Z
LAST-MODIFIED:20250410T113418Z
UID:1743-1750032000-1750377599@welearnnkc.com
SUMMARY:Les Outils de Management pour un Leadership Efficace
DESCRIPTION:Managers\, entrepreneurs\, chefs de projet\, responsables d’équipe\, consultants\, et toute personne souhaitant renforcer ses compétences managériales. \nEn savoir plus sur la formation :​
URL:https://welearnnkc.com/event/les-outils-de-management-pour-un-leadership-efficace/
ATTACH;FMTTYPE=image/png:https://welearnnkc.com/wp-content/uploads/2023/11/Rectangle-5.png
END:VEVENT
BEGIN:VEVENT
DTSTART;VALUE=DATE:20250526
DTEND;VALUE=DATE:20250530
DTSTAMP:20260421T100733
CREATED:20250329T142413Z
LAST-MODIFIED:20250329T142611Z
UID:1739-1748217600-1748563199@welearnnkc.com
SUMMARY:Maîtriser les techniques de communication pour influencer et convaincre
DESCRIPTION:Professionnels\, entrepreneurs\, managers\, consultants\, particuliers souhaitant améliorer leur communication interpersonnelle et professionnelle. \nEn savoir plus sur la formation :​
URL:https://welearnnkc.com/event/maitriser-les-techniques-de-communication-pour-influencer-et-convaincre/
ATTACH;FMTTYPE=image/png:https://welearnnkc.com/wp-content/uploads/2023/11/Rectangle-5.png
END:VEVENT
BEGIN:VEVENT
DTSTART;VALUE=DATE:20241125
DTEND;VALUE=DATE:20241203
DTSTAMP:20260421T100733
CREATED:20240117T202144Z
LAST-MODIFIED:20240304T192839Z
UID:1233-1732492800-1733183999@welearnnkc.com
SUMMARY:Cycle 2 : Audit Interne Et Contrôle Permanent
DESCRIPTION:L’Approche par les Risques en matière de planification et de conduite des Missions d’Audit Interne et de Contrôle Permanent dans une banque \nEn savoir plus sur la formation :​
URL:https://welearnnkc.com/event/cycle-2-audit-interne-et-controle-permanent/
ATTACH;FMTTYPE=image/png:https://welearnnkc.com/wp-content/uploads/2023/11/Rectangle-5.png
END:VEVENT
BEGIN:VEVENT
DTSTART;VALUE=DATE:20241104
DTEND;VALUE=DATE:20241112
DTSTAMP:20260421T100733
CREATED:20240117T201719Z
LAST-MODIFIED:20240304T192834Z
UID:1227-1730678400-1731369599@welearnnkc.com
SUMMARY:Cycle 1 : Audit Interne Et Contrôle Permanent
DESCRIPTION:L’Approche par les Risques en matière de planification et de conduite des Missions d’Audit Interne et de Contrôle Permanent dans une banque \nEn savoir plus sur la formation :​
URL:https://welearnnkc.com/event/cycle-1-audit-interne-et-controle-permanent/
ATTACH;FMTTYPE=image/png:https://welearnnkc.com/wp-content/uploads/2023/11/Rectangle-5.png
END:VEVENT
BEGIN:VEVENT
DTSTART;VALUE=DATE:20240708
DTEND;VALUE=DATE:20240712
DTSTAMP:20260421T100733
CREATED:20240117T201914Z
LAST-MODIFIED:20240304T192829Z
UID:1229-1720396800-1720742399@welearnnkc.com
SUMMARY:Contrôle Interne et Risques Opérationnels
DESCRIPTION:Maitrise des Risques opérationnels liés aux opérations bancaires en agences :\nRègles de Vigilance et Contribution de la 1ère Ligne de Défense \nEn savoir plus sur la formation :​
URL:https://welearnnkc.com/event/controle-interne-et-risques-operationnels-2/
ATTACH;FMTTYPE=image/png:https://welearnnkc.com/wp-content/uploads/2023/11/Rectangle-5.png
END:VEVENT
BEGIN:VEVENT
DTSTART;VALUE=DATE:20240506
DTEND;VALUE=DATE:20240510
DTSTAMP:20260421T100733
CREATED:20240117T200307Z
LAST-MODIFIED:20240304T192825Z
UID:1213-1714953600-1715299199@welearnnkc.com
SUMMARY:Conformité et lutte contre le blanchiment d’argent et le financement du terrorisme
DESCRIPTION:Contribution de la 1ère ligne de défense dans la lutte contre le blanchiment d’argent et le financement du terrorisme et dans la maîtrise des risques y afférents \nEn savoir plus sur la formation :​
URL:https://welearnnkc.com/event/conformite-et-lutte-contre-le-blanchiment-dargent-et-le-financement-du-terrorisme/
ATTACH;FMTTYPE=image/png:https://welearnnkc.com/wp-content/uploads/2023/11/Rectangle-5.png
END:VEVENT
BEGIN:VEVENT
DTSTART;VALUE=DATE:20240424
DTEND;VALUE=DATE:20240427
DTSTAMP:20260421T100733
CREATED:20240330T134503Z
LAST-MODIFIED:20240330T134547Z
UID:1491-1713916800-1714175999@welearnnkc.com
SUMMARY:Excel Niveau Basique
DESCRIPTION:Cette formation Excel niveau basique est conçue pour vous aider à acquérir les compétences essentielles pour utiliser Excel de manière efficace. Vous apprendrez à naviguer dans l’interface du logiciel\, à saisir et à modifier des données\, à mettre en forme vos tableaux\, à utiliser des fonctions et des formules de base\, et à créer des graphiques simples. \nEn savoir plus sur la formation :​
URL:https://welearnnkc.com/event/excel-niveau-basique/
ATTACH;FMTTYPE=image/png:https://welearnnkc.com/wp-content/uploads/2023/11/Rectangle-5.png
END:VEVENT
BEGIN:VEVENT
DTSTART;VALUE=DATE:20240304
DTEND;VALUE=DATE:20240308
DTSTAMP:20260421T100733
CREATED:20240117T194552Z
LAST-MODIFIED:20240304T192813Z
UID:1211-1709510400-1709855999@welearnnkc.com
SUMMARY:Cycle 2 : Conformité et lutte contre le blanchiment d’argent et le financement du terrorisme
DESCRIPTION:Bonnes pratiques en matière de structuration du dispositif de contrôle interne lié à la lutte contre le blanchiment d’argent et le financement du terrorisme \nEn savoir plus sur la formation :​
URL:https://welearnnkc.com/event/cycle-2-conformite-et-lutte-contre-le-blanchiment-dargent-et-le-financement-du-terrorisme/
ATTACH;FMTTYPE=image/png:https://welearnnkc.com/wp-content/uploads/2023/11/Rectangle-5.png
END:VEVENT
BEGIN:VEVENT
DTSTART;VALUE=DATE:20240304
DTEND;VALUE=DATE:20240308
DTSTAMP:20260421T100733
CREATED:20240401T193342Z
LAST-MODIFIED:20240401T193525Z
UID:1513-1709510400-1709855999@welearnnkc.com
SUMMARY:Renforcement des capacités des assistantes de direction
DESCRIPTION:Cette formation permet aux assistant(e)s de direction de : \n\nAméliorer les compétences techniques et opérationnelles.\nDévelopper les compétences relationnelles et managériales.\nAméliorer la gestion du temps et des priorités.\nDévelopper les compétences en communication orale et écrite.\nDécouvrir les nouvelles technologies et les outils bureautiques.\nApprendre à travailler en collaborationque\n\nEn savoir plus sur la formation :​
URL:https://welearnnkc.com/event/renforcement-des-capacites-des-assistantes-de-direction/
ATTACH;FMTTYPE=image/png:https://welearnnkc.com/wp-content/uploads/2023/11/Rectangle-5.png
END:VEVENT
BEGIN:VEVENT
DTSTART;VALUE=DATE:20240205
DTEND;VALUE=DATE:20240209
DTSTAMP:20260421T100733
CREATED:20240116T121201Z
LAST-MODIFIED:20240304T192821Z
UID:1114-1707091200-1707436799@welearnnkc.com
SUMMARY:Cycle 1 : Conformité et lutte contre le blanchiment d’argent et le financement du terrorisme
DESCRIPTION:Bonnes pratiques en matière de structuration du dispositif de contrôle interne lié à la lutte contre le blanchiment d’argent et le financement du terrorisme \nEn savoir plus sur la formation :​
URL:https://welearnnkc.com/event/cycle-1-conformite-et-lutte-contre-le-blanchiment-dargent-et-le-financement-du-terrorisme/
ATTACH;FMTTYPE=image/png:https://welearnnkc.com/wp-content/uploads/2023/11/Rectangle-5.png
END:VEVENT
BEGIN:VEVENT
DTSTART;VALUE=DATE:20240122
DTEND;VALUE=DATE:20240127
DTSTAMP:20260421T100733
CREATED:20240401T193923Z
LAST-MODIFIED:20240407T013207Z
UID:1517-1705881600-1706313599@welearnnkc.com
SUMMARY:Risque management ALM et risque salle des marchés
DESCRIPTION:Plongez au cœur de l’univers complexe de la gestion des risques dans le secteur bancaire avec notre formation dédiée au «Risque Management ALM et Risque Salle des Marchés». \nCette expérience pédagogique intensive est spécialement conçue pour permettre aux professionnels de la banque d’explorer en profondeur les subtilités de la gestion des actifs et passifs ainsi que les défis associés aux salles des marchés. \nEn savoir plus sur la formation :​
URL:https://welearnnkc.com/event/risque-management-alm-et-risque-salle-des-marches/
ATTACH;FMTTYPE=image/png:https://welearnnkc.com/wp-content/uploads/2023/11/Rectangle-5.png
END:VEVENT
END:VCALENDAR